BEGIN:VCALENDAR

VERSION:2.0

PRODID:-//wp-events-plugin.com//5.55//EN

BEGIN:VEVENT

UID:361e639e-052d-4b0c-b54a-493ef59beb93

DTSTART:20260506T180000Z

DTEND:20260506T220000Z

DTSTAMP:20251204T160250Z

SUMMARY:Yellow Days at Scala - Wednesday 6th May 2026 - 7:00 pm until 11:00 pm 

DESCRIPTION:George van den Broek’s mercurial talent has long been the talk of contemporary music. An overnight sensation when 2016 debut E.P Harmless Melodies touched a nerve with a global audience of millennials\, he signed a worldwide deal with Sony while most teenagers’ biggest challenge would be surviving Freshers’ Week.\n\nSubsequent sonic excursions have seen him explore everything from sprawling pop fusion (Sony debut A Day In A Yellow Beat) to sci-fi conceptualism (2024’s Hotel Heaven) -complete with themed global tour.\n\nHis latest release as Yellow Days\, ‘Rock And A Hard Place’\, however\, sees George — newly married and drug-free — returning to the influences which inspired him to start making music in his parents’ garden shed in Haslemere\, Surrey\, as a wide-eyed 16-year-old.

LOCATION:

URL:https://scala.co.uk/events/yellow-days-2/

END:VEVENT

END:VCALENDAR