BEGIN:VCALENDAR

VERSION:2.0

PRODID:-//wp-events-plugin.com//5.55//EN

BEGIN:VEVENT

UID:0beb5f6b-3b37-46e0-b217-ca8dae3e604a

DTSTART:20260613T173000Z

DTEND:20260613T204500Z

DTSTAMP:20260225T174908Z

SUMMARY:THIS WILL DESTROY YOU at Scala - Saturday 13th June 2026 - 6:30 pm until 9:45 pm 

DESCRIPTION:This Will Destroy You is an American instrumental band known for its expansive\, cinematic soundscapes that blur the lines between post-rock\, ambient\, and doomgaze. Since emerging from Texas in 2005 with the acclaimed Young Mountain EP\, the group has built an international reputation for emotionally intense live performances and immersive albums including This Will Destroy You\, Tunnel Blanket\, and Another Language. Their music—often balancing delicate atmospheres with crushing crescendos—has been featured in major films and series (Moneyball\, World War Z\, Foxcatcher)\, cementing their status as one of the most influential voices in modern instrumental music.

LOCATION:

URL:https://scala.co.uk/events/this-will-destroy-you-2/

END:VEVENT

END:VCALENDAR