BEGIN:VCALENDAR

VERSION:2.0

PRODID:-//wp-events-plugin.com//5.55//EN

BEGIN:VEVENT

UID:53bebbbc-d201-4693-88ab-48b18f45c228

DTSTART:20260930T180000Z

DTEND:20260930T211500Z

DTSTAMP:20260421T145814Z

SUMMARY:The Tubs at Scala - Wednesday 30th September 2026 - 7:00 pm until 10:15 pm 

DESCRIPTION:The Tubs' second album\, Cotton Crown\, sees the Celtic Jangle boyband venture into darker\, more personal territory while continuing to hone their highly addictive brand of songcraft. It’s a true level up album which sees the band expand their sonic palette to take in a kaleidoscopic range of influences: everything from soulful pub rock (Chain Reaction) to Husker Du aggression (One More Day) to melancholy sophisto-pop (Narcissist) gets a look in. As Pitchfork noted\, The Tubs see jangle as a ‘vast world of moods and muses’ and Cotton Crown sees them continuing to explore this world and creating a distinctly Tub-ular sound in the process.

LOCATION:

URL:https://scala.co.uk/events/the-tubs/

END:VEVENT

END:VCALENDAR