BEGIN:VCALENDAR

VERSION:2.0

PRODID:-//wp-events-plugin.com//5.55//EN

BEGIN:VEVENT

UID:eb3dbf3a-9858-4570-a928-2818fe218d63

DTSTART:20270313T140000Z

DTEND:20270314T000000Z

DTSTAMP:20260331T141133Z

SUMMARY:THE LONDON SKA & MOD EXTRAVAGANZA at Scala - Saturday 13th March 2027 - Sunday 14th March 2027 - 2:00 pm until 12:00 am 

DESCRIPTION:The London Ska &amp\; Mod Extravaganza is back for a second year\, even BIGGER &amp\; BETTER than last time! Silky &amp\; Top Kat bring the epic DEATH OF GUITAR POP live show back to London with an all day celebration of all things Ska &amp\; Mod! Bringing you 8 of the UK's BIGGEST &amp\; BEST Ska &amp\; Mod artists the lineup includes - DEATH OF GUITAR POP\, 2 TONE LEGEND RHODA DAKAR\, DAKKA SKANKS\, SHARP CLASS\, ROOKIE NUMBERS\, MADAME CLAUDE\, THE XLNTS and DJ SKA &amp\; MASH!\n\nGet your boots and braces on and get ready to skank the hours awayin the CAPITAL CITY...because SKA IS THE BOLLOCKS!

LOCATION:

URL:https://scala.co.uk/events/the-london-ska-mod-extravaganza/

END:VEVENT

END:VCALENDAR