BEGIN:VCALENDAR

VERSION:2.0

PRODID:-//wp-events-plugin.com//5.55//EN

BEGIN:VEVENT

UID:8069377d-512e-40e3-8934-451dd0675fdc

DTSTART:20261206T190000Z

DTEND:20261206T230000Z

DTSTAMP:20260317T174138Z

SUMMARY:The House Of Love at Scala - Sunday 6th December 2026 - 7:00 pm until 11:00 pm 

DESCRIPTION:The House of Love are one of the great bands of the proto-Britpop era of the late 1980s and early 1990s.\n\nFollowing their critically acclaimed 1988 Creation Records' debut\, The House Of Love signed to Fontana Recordings the following year and embarked on four years of non-stop recording and touring that would take them into the mainstream.\n\nEarly singles such as 'Shine On'\, 'Christine' and 'Destroy The Heart' were followed in the Fontana years with more classics such as 'Never'\, 'I Don't Know Why I Love You'\, 'Beatles and the Stones'\, 'Shine On (new version)'\, 'The Girl With The Loneliest Eyes'\, 'Crush Me' and more.\n\nAn AGMP Concerts presentation.

LOCATION:

URL:https://scala.co.uk/events/the-house-of-love/

END:VEVENT

END:VCALENDAR