BEGIN:VCALENDAR

VERSION:2.0

PRODID:-//wp-events-plugin.com//5.55//EN

BEGIN:VEVENT

UID:2156bf00-b617-4b7a-aa56-72ba6e692212

DTSTART:20261112T193000Z

DTEND:20261112T230000Z

DTSTAMP:20260417T090712Z

SUMMARY:Temples at Scala - Thursday 12th November 2026 - 7:30 pm until 11:00 pm 

DESCRIPTION:Temples’ name has become synonymous with a band with an adventurous spirit\; constantly exploring new ideas. The British band formed in Kettering\, England consists of James Bagshaw (vocals/guitar)\, Thomas Walmsley (bass)\, Adam Smith (keyboards/guitar)\, and Rens Ottink (drums). On their fifth album\, BLISS\, they shake up the perception of the Kettering-formed four-piece with a record that ventures into electronic territory while staying true to their core DNA. Euphoric and melancholic melodies of late ‘90s dance music blend with psych-tinged riffs and loops to create something fresh.

LOCATION:

URL:https://scala.co.uk/events/temples/

END:VEVENT

END:VCALENDAR