BEGIN:VCALENDAR

VERSION:2.0

PRODID:-//wp-events-plugin.com//5.55//EN

BEGIN:VEVENT

UID:8a53982a-37ec-404c-a602-78b93b23207d

DTSTART:20260521T183000Z

DTEND:20260522T220000Z

DTSTAMP:20260415T153942Z

SUMMARY:Sir Chloe at Scala - Thursday 21st May 2026 - Friday 22nd May 2026 - 7:30 pm until 11:00 pm 

DESCRIPTION:Sir Chloe is the moniker of the musician and artist Dana Foote. She has been known to blend grungy guitar hooks\, sharp pop instincts\, and a distinctive\, emotionally raw vocal style. Sir Chloe draws influence primarily from funeral dirges and early Gregorian chants\, channeling artists like PJ Harvey\, David Byrne\, and Radiohead. Foote shirked her government name and adopted the moniker Sir Chloe in 2017. Her stage presence has been compared to the likes of a “disheveled businessman after a long day\,” and a “drunk uncle.” Her debut EP Party Favors (2020) has garnered nearly a billion streams and multiple gold records. The music is taut and emotionally charged\, sitting between mainstream ambition and experimental edge.

LOCATION:

URL:https://scala.co.uk/events/sir-chloe/

END:VEVENT

END:VCALENDAR