BEGIN:VCALENDAR

VERSION:2.0

PRODID:-//wp-events-plugin.com//5.55//EN

BEGIN:VEVENT

UID:5bd3c951-e61a-40bf-afb5-ccbbf009fd51

DTSTART:20260509T110000Z

DTEND:20260509T200000Z

DTSTAMP:20260323T142140Z

SUMMARY:Road to MTGP at Scala - Saturday 9th May 2026 - 12:00 pm until 9:00 pm 

DESCRIPTION:Road to MTGP &amp\; BXGP Fight Night – Live at Scala\n\nWe return to where it all began. On Saturday\, May 9th\, the Road to MTGP series heads back to the legendary Scala in London for a stacked night of Muay Thai\, Kickboxing\, and Boxing action.\n\nThis special event will feature both the Road to MTGP and BXGP fight cards\, bringing together some of the sport’s well-known fighters alongside exciting new talent looking to make their mark. With multiple disciplines showcased throughout the evening\, fans can expect a dynamic lineup of bouts\, high-level striking\, and competitive matchups inside the ring.\n\nReturning to this iconic venue in King’s Cross\, where the journey first began\, the night promises unforgettable fights and an atmosphere that only live combat sports can deliver.\n\nJoin us for an action-packed evening as fighters step into the ring determined to prove themselves on the Road to MTGP &amp\; BXGP stage.

LOCATION:

URL:https://scala.co.uk/events/road-to-mtgp-6/

END:VEVENT

END:VCALENDAR