BEGIN:VCALENDAR

VERSION:2.0

PRODID:-//wp-events-plugin.com//5.55//EN

BEGIN:VEVENT

UID:3050a7e7-313e-4d06-b6cb-9f420e08f2a5

DTSTART:20260424T220000Z

DTEND:20260425T040000Z

DTSTAMP:20260318T161357Z

SUMMARY:Polenta at Scala - Friday 24th April 2026 - Saturday 25th April 2026 - 11:00 pm until 5:00 am 

DESCRIPTION:Polenta is not just any party. It’s a party for everyone. We’re a mix of lasers\, pleasure\, churros\, dancing\, and much more. Every Polenter is a laser on the dance floor — a diversity of perspectives that know how to enjoy themselves. We are a story to tell the next day\, a new anecdote in your life\, a message to that friend telling them you had the best night in the world.\n\nLAST ENTRY 2AM. PHYSICAL PHOTO ID REQUIRED FOR ENTRY.

LOCATION:

URL:https://scala.co.uk/events/polenta/

END:VEVENT

END:VCALENDAR