BEGIN:VCALENDAR

VERSION:2.0

PRODID:-//wp-events-plugin.com//5.55//EN

BEGIN:VEVENT

UID:096158de-9d7f-4679-ae4c-777d23fe95c6

DTSTART:20261020T183000Z

DTEND:20261020T220000Z

DTSTAMP:20260420T160600Z

SUMMARY:Personal Trainer at Scala - Tuesday 20th October 2026 - 7:30 pm until 11:00 pm 

DESCRIPTION:Led by multi-instrumentalist Willem Smit – and with an ever-changing lineup – Amsterdam collective Personal Trainer began as a love letter to the indie scene. The group’s debut album\, Big Love Blanket\, was released in 2022\, complete with bass heavy riffs and contagious pop hooks.

LOCATION:

URL:https://scala.co.uk/events/personal-trainer/

END:VEVENT

END:VCALENDAR