BEGIN:VCALENDAR

VERSION:2.0

PRODID:-//wp-events-plugin.com//5.55//EN

BEGIN:VEVENT

UID:1047ebaf-4c66-4417-ae1d-de5c44c2ccf3

DTSTART:20261119T193000Z

DTEND:20261119T230000Z

DTSTAMP:20260220T160056Z

SUMMARY:OASIS SUPERNOVA: The Knebworth Experience at Scala - Thursday 19th November 2026 - 7:30 pm until 11:00 pm 

DESCRIPTION:OASIS SUPERNOVA: The Knebworth Experience\n\nAutumn 2026 – A Celebration of the Greatest Gig of the 90s\n\nFollowing the sell-out success of “The Maine Event” — the 30th Anniversary celebration of Oasis’ legendary Maine Road shows — Oasis Supernova now proudly present their most ambitious production yet:\n\n“The Knebworth Experience.”\n\nThis next chapter pays tribute to the monumental 1996 Knebworth concerts\, the defining moment of a generation — when over 250\,000 fans gathered to witness Oasis at the absolute peak of their powers. The show will immerse audiences in the sound\, spirit\, and scale of that historic weekend\, combining authentic live performance\, cinematic visuals\, and anthemic emotion that only Oasis can deliver.\n\nAll production elements from The Maine Event — the stunning stage design\, the string and brass sections\, the harmonica-led arrangements\, and the faithful recreation of the band’s live energy — will be carried forward and elevated for this performance. Expect a full-scale tribute to the Knebworth setlist\, intertwined with a feature segment from Oasis Supernova’s current live show\, showcasing how these songs continue to inspire new audiences today.\n\nThis is not just a concert — it’s a celebration of legacy\, nostalgia\, and the unbreakable connection between music and the people who believe in it.\n\nAs The Maine Event proved\, audiences are hungry for more.\n\nThe Knebworth Experience is that “more” — bigger\, bolder\, and built for every fan who still believes in rock ‘n’ roll dreams.

LOCATION:

URL:https://scala.co.uk/events/oasis-supernova-the-knebworth-experience/

END:VEVENT

END:VCALENDAR