BEGIN:VCALENDAR

VERSION:2.0

PRODID:-//wp-events-plugin.com//5.55//EN

BEGIN:VEVENT

UID:405d658b-76ec-4ade-9e55-8b6cd86a2110

DTSTART:20261001T183000Z

DTEND:20261001T220000Z

DTSTAMP:20260421T155826Z

SUMMARY:Nicotine Dolls at Scala - Thursday 1st October 2026 - 7:30 pm until 11:00 pm 

DESCRIPTION:Nicotine Dolls make the kind of music you can’t hide from. The storytelling is front-and center\, beckoning your attention like a dusty old novel you can’t put down until the last page. The vocals are gritty and honest\, holding nothing back in fits of joy\, regret\, and sadness similar to a phone call from one of your best friends at 3am. The instrumentation is equally punchy and nuanced\, grafting rafter-reaching hooks on top of rich soundscapes. The moment the Nicotine Dolls - led by Sam Cieri [vocals]\, John Merritt [bass]\, and Abel Tabares [drums] - hit that first note\, the air shifts. A wave of collection emotion that doesn’t ask permission just hits you.

LOCATION:

URL:https://scala.co.uk/events/nicotine-dolls/

END:VEVENT

END:VCALENDAR