BEGIN:VCALENDAR

VERSION:2.0

PRODID:-//wp-events-plugin.com//5.55//EN

BEGIN:VEVENT

UID:e771bca0-89d9-4bea-be31-f787b896ef80

DTSTART:20260515T170000Z

DTEND:20260515T204500Z

DTSTAMP:20260316T154130Z

SUMMARY:MAZE & PETER AZZOPARDI at Scala - Friday 15th May 2026 - 6:00 pm until 9:45 pm 

DESCRIPTION:Maze &amp\; Peter Azzopardi to headline at the Iconic Scala in Kings cross– Biggest Show to date.\n\nLONDON\, UK – Rising UK indie stars Peter Azzopardi and Maze are set to take centre stage for their biggest headline show to date at the legendary Scala in King’s Cross\, bringing their electrifying live energy to one of London’s most iconic venues.\n\nIn a bold\, self-promoted move\, they promise an unforgettable night of raw talent\, anthemic hooks\, and a celebration of the independent music scene. Taking place on Friday 15th May 2026\, the night will feature DJ sets from Tommy McGuinness of The Marquis and will be compered by Mark Speller\, of This Is The Music.\n\nSupport acts are still to be confirmed\, with more announcements expected in the coming weeks.\n\nThis is more than a gig – it’s a moment. Don’t miss it.

LOCATION:

URL:https://scala.co.uk/events/maze-peter-azzopardi/

END:VEVENT

END:VCALENDAR