BEGIN:VCALENDAR

VERSION:2.0

PRODID:-//wp-events-plugin.com//5.55//EN

BEGIN:VEVENT

UID:e3bca91c-2fe7-4816-bef1-97d6e287c6e2

DTSTART:20260611T180000Z

DTEND:20260611T213000Z

DTSTAMP:20260320T100400Z

SUMMARY:Marmozets at Scala - Thursday 11th June 2026 - 7:00 pm until 10:30 pm 

DESCRIPTION:Marmozets are back. Raw\, relentless\, and unapologetically themselves. Originally formed in Yorkshire\, UK\, by Jack Bottomley (guitar) and Sam Macintyre (guitar) and completed by Becca Bottomley (vocals) and Josh Macintyre (drums)\, the band return with brand new music - ready to take on the world again.\n\nThe band’s debut album\, ‘The Weird and Wonderful Marmozets’\, released in 2014 and won Kerrang!’s coveted Album of the Year. Also earning a glowing 4/5 review from The Guardian\, highlighting the band’s fearless dynamism and ability to fuse sharp musicianship with huge\, hook-filled melodies. Their momentum continued with second album ‘Knowing What You Know Now’\, as global festivals took them from Download to Splendour in the Grass and Summer Sonic.\n\nAnd then… they seemed to disappear to the outside world but on the inside\, everything was changing - and for the better. What emerged is a fresh style that possesses the ferocity that first defined Marmozets\, but now channels it into heavyweight\, hook laden songs which waste no time in throwing their punches.

LOCATION:

URL:https://scala.co.uk/events/marmozets/

END:VEVENT

END:VCALENDAR