BEGIN:VCALENDAR

VERSION:2.0

PRODID:-//wp-events-plugin.com//5.55//EN

BEGIN:VEVENT

UID:bdec06ce-05fb-46b1-9cda-b03b3e28562f

DTSTART:20261014T180000Z

DTEND:20261014T211500Z

DTSTAMP:20260306T120923Z

SUMMARY:LSD and the Search for God at Scala - Wednesday 14th October 2026 - 7:00 pm until 10:15 pm 

DESCRIPTION:LSD and the Search for God hit the Northern California coast in 2005\, seemingly from another place and time\, dosing San Francisco with hypnotic shows built on swirling guitars\, otherworldly drones\, fuzzed-out pop melodies\, and dreamy vocal harmonies.\n\nEarly shows and recordings drew comparisons to My Bloody Valentine\, Slowdive\, Yo La Tengo\, Spacemen 3\, and Sonic Youth\, helping the band quickly earn a reputation as a must-see act within the Northern California underground shoegaze and psych scene.\n\nTheir self-titled debut EP (Mind Expansion Records\, 2007\; Don Giovanni\, 2025) sold out before its official release date\, earned critical acclaim\, and continues to appear on lists of essential shoegaze releases.\n\nAll five songs cemented the band as key players in the late-2000s shoegaze revival. But the fourth track\, “Starting Over\,” emerged as a defining moment. It captures the genre’s essence with submerged vocal harmonies and a finely balanced guitar interplay that drifts between hushed intimacy and sweeping wall-of-sound swells. Striking a rare space between vulnerability and grandeur\, “Starting Over” has grown beyond a fan favorite into a modern shoegaze anthem — one that feels inseparable from the movement it helped shape.\n\nWith anticipation building around their cult-classic debut\, the band delivered a second EP that surpassed expectations\, expanded their sound\, and sharpened their vision. Heaven Is a Place (Space Age Recordings\, 2016\; Don Giovanni\, 2025) frequented many Best Of lists and\, according to It’s Psychedelic Baby Magazine\, is “…controlled pop that matters\, weaving their sound with fuzz\, reverb\, feedback and an eternal bliss that will melt you in place.”\n\nPop Matters calls it\, "a long-awaited sermon for the faithful and a blazing induction for new converts\," while Primal Music says it's "another astonishing collection of five psychedelic stories glistening with the same spaced out ingredients that blew my mind way back in 2007."\n\nSelected Press Quotes:\n\n"The San Franciscans’ washed-out guitarscapes and affectionate\, blanket-warm melodies resemble My Bloody Valentine jamming with Yo La Tengo."\n\n--The Big Takeover\n\n"It was a night of exceptional intrigue and quite literally\, an other-worldly performance. The set bended and warped through psychedelic bliss. Crazed and incensed punters at the front of the crowd dictated spaces to writhe themselves around in\, one chap took to taking his top off\, letting his spilling gut loose and continuing to throw his head towards the monitor\, just incase it was not loud enough."\n\n--Brighton's Finest\n\n"Heaven Is a Place is a long-awaited sermon for the faithful\, and a blazing induction for new converts."\n\n--Pop Matters\, "10 Best Shoegaze and Dream Pop Albums of 2016"\n\n"Magical pop that could inspire one to take meds without a perscription."\n\n--Autopia Music\n\n"Dreamy indie-warp."\n\n--San Francisco Chronicle\, "Pop Beat"\n\n"Awesome indie psych/shoegaze. A poppier My Bloody Valentine or a more opiated Sonic Youth."\n\n--Robotic Empire (Richmond\, VA)\n\n"LSD and the Search for God are the rightful inheritors of the more coherent side of My Bloody Valentine and the more experimental\, noisy side of Luna."\n\n--Real Detroit Weekly\n\n"An absolute treat for lovers of all things shoegazey and dreamy. Superb."\n\n--Road Records. Dublin\, Ireland\n\n"Psychedelic shoegazers..."\n\n--SF Weekly\n\n"Beautiful guitar-based gems delightfully reminiscent of the early Creation Records sound."\n\n--Mind Expansion Records\n\n"This impressive debut EP sounds just as epic as their name."\n\n--The Deli Magazine\, "CD of the Month"\n\n"A full-on shoegazer assault of crazed guitar sounds coupled with ethereal male/female vocals. It's an excellent remedy for those who still miss Ride\, MBV\, Chapterhouse...."\n\n--Losing Today

LOCATION:

URL:https://scala.co.uk/events/lsd-and-the-search-for-god/

END:VEVENT

END:VCALENDAR