BEGIN:VCALENDAR

VERSION:2.0

PRODID:-//wp-events-plugin.com//5.55//EN

BEGIN:VEVENT

UID:41820045-3ede-4719-9eba-2998a00dbb57

DTSTART:20260602T183000Z

DTEND:20260602T220000Z

DTSTAMP:20260327T162434Z

SUMMARY:JMSN at Scala - Tuesday 2nd June 2026 - 7:30 pm until 11:00 pm 

DESCRIPTION:Hailing from Detroit\, Michigan – JMSN (pronounced ‘Jameson’) has emerged on the international stage as one of the music industry’s most sought-after performers and producers.\n\nJMSN has built a reputation for himself through his unforgettable live performances\, his trademark sounds\, self directed compelling visuals\, and a consistent career of 10 plus years including 8 studio albums\, as well as 2 live albums. JMSN is a true DIY leader at the forefront of the movement to empower independent artists to truly pursue their goals within the music industry\, no matter what the circumstances. Garnering nods from legends\, such as Usher\, and founding member of The Commodores\, Thomas McClary. JMSN’s impressive talents have been tapped by the likes of Kendrick Lamar\, Mac Miller\, J. Cole\, The Game\, Tyga\, Ab-Soul\, Kaytranada\, Sada Baby\, Sango\, Ta-ku\, Freddie Gibbs and many more.\n\nAfter a world tour of 100 shows on the back of the album 'Soft Spot’\, the soul and energy of the album has permeated through the industry and public alike. Garnering a plethora of praise including viral content from some of its standout songs like ‘Soft Spot’\, ‘Love Me’ and ‘Cherry Pop’ . Piquing fans and spectators interest to the newest release\, ‘it’s only about u if you think it is…’ streaming everywhere now.

LOCATION:

URL:https://scala.co.uk/events/jmsn/

END:VEVENT

END:VCALENDAR