BEGIN:VCALENDAR

VERSION:2.0

PRODID:-//wp-events-plugin.com//5.55//EN

BEGIN:VEVENT

UID:b9572a37-cebe-4d8c-92a9-84dfba378405

DTSTART:20260530T113000Z

DTEND:20260530T190000Z

DTSTAMP:20251124T105506Z

SUMMARY:GARAGE NATION SPRING BRUNCH & DAY PARTY at Scala - Saturday 30th May 2026 - 12:30 pm until 8:00 pm 

DESCRIPTION:Garage Nation’s Brunch is back at Scala - every one of these is a sell out!\n\n60 Minutes of Bottomless Cocktails + food.\n\nFun &amp\; games and the best UK Garage Vibes!

LOCATION:

URL:https://scala.co.uk/events/garage-nation-spring-brunch-day-party/

END:VEVENT

END:VCALENDAR