BEGIN:VCALENDAR

VERSION:2.0

PRODID:-//wp-events-plugin.com//5.55//EN

BEGIN:VEVENT

UID:23132bcc-f485-42cf-9cdd-ef8b5b318681

DTSTART:20261109T190000Z

DTEND:20261109T230000Z

DTSTAMP:20260204T133138Z

SUMMARY:EYEHATEGOD at Scala - Monday 9th November 2026 - 7:00 pm until 11:00 pm 

DESCRIPTION:Eyehategod emerged in the early ’90s with an uncompromising blend of doomy\, bluesy punk and misanthropic metal that quickly pushed them to the fore of the fertile New Orleans metal scene. Since debuting with In the Name of Suffering\, the band have amassed a loyal following with potently disorienting releases. Each new album saw the band adding or refining an element\, ensuring the doomcore veterans continued to evolve.

LOCATION:

URL:https://scala.co.uk/events/eyehategod/

END:VEVENT

END:VCALENDAR