BEGIN:VCALENDAR

VERSION:2.0

PRODID:-//wp-events-plugin.com//5.55//EN

BEGIN:VEVENT

UID:56001840-88d1-49a0-ad67-1351a5b2ccf7

DTSTART:20261029T190000Z

DTEND:20261029T220000Z

DTSTAMP:20260227T150420Z

SUMMARY:Boy Kill Boy at Scala - Thursday 29th October 2026 - 7:00 pm until 10:00 pm 

DESCRIPTION:Boy Kill Boy formed in 2004 and from there things moved pretty quickly. They were the first band ever to play at Wireless Festival\, played several dates on the NME New Bands tour\, opened the Radio 1 stage at the Reading and Leeds festival\, and toured with Hard-Fi. All of that and a couple of singles on Fierce Panda later\, the band signed to Vertigo Records (Universal Music).\n\nIt was a bit of a rollercoaster\, with a top thirty single (Back Again)\, a top twenty single (Suzie)\, tours with Echo &amp\; The Bunnymen and The Charlatans in the US\, another NME New Bands tour (as headliners this time)\, a session with Jo Whiley for the Radio 1 Live Lounge\, another appearance at Reading and Leeds festival and even an appearance on Top of The Pops.\n\nThe First album\, CIVILIAN\, recorded in Sawmills with legendary producer John Cornfield was released in May 2006\, reaching number 16 in the UK charts.\n\nAlbum two was recorded in LA with Dave Sardy (Oasis\, LCD Soundsystem\, and so many more bands). The band supported the release by touring extensively around the UK\, with festival appearances at both V and Camden Crawl\, gigged with The Kooks and The Enemy\, and performed live on Dermot O'Leary's Radio 2 show.\n\nIt was a bit of a whirlwind and the band called it a day in 2008. So they returned for 2 intimate shows in 2016 to say goodbye\, or so they thought…\n\nBut now twenty years after the release of CIVILIAN\, Boy Kill Boy will be coming Back (Again) to celebrate the album together once again. The band will play a headline show at Scala in Kings Cross on October 29th 2026.

LOCATION:

URL:https://scala.co.uk/events/boy-kill-boy/

END:VEVENT

END:VCALENDAR