BEGIN:VCALENDAR

VERSION:2.0

PRODID:-//wp-events-plugin.com//5.55//EN

BEGIN:VEVENT

UID:b7ac3ad3-43fe-4ea9-80ac-9769c7d36612

DTSTART:20260516T220000Z

DTEND:20260517T040000Z

DTSTAMP:20260421T132814Z

SUMMARY:Bollywood Bhangra Madness at Scala - Saturday 16th May 2026 - Sunday 17th May 2026 - 11:00 pm until 5:00 am 

DESCRIPTION:BOLLYWOOD BHANGRA MADNESS\n\nLONDON’s ULTIMATE NIGHT EXPERIENCE\n\nIN UK’s ONE OF THE BIGGEST &amp\; LUXURIOUS venue as\n\n1\,000+ party lovers come together for Non Stop night till sunrise\n\nSurprise DJs | Live Dancers| Drummers\n\nConfetti Showers| Co2 Blasts |\n\nNeon Paints &amp\; more\n\nLAST ENTRY 1AM\, PHYSICAL PHOTO ID REQUIRED FOR ENTRY\n\nBOLLYWOOD| BHANGRA | EDM |\n\nSpecial giveaways for the first 100 entries\n\nDate: Saturday\, 16th May\n\nLAST ENTRY 1AM\n\nVenue: SCALA\, London N1 9NL\n\nDress Code: Dress to Impress Avoid casuals \,premium party energy!\n\nPhysical Photo ID required -No ID\, No Entry(passport\, uk driving license or physical brp)\n\nMiss the party\, carry the regret.\n\nTICKETS SHUTDOWN ANYTIME\n\nLIMITED TABLES WhatsApp:+447442046535\n\nInstagram: @thesahiljindal

LOCATION:

URL:https://scala.co.uk/events/bollywood-bhangra-madness/

END:VEVENT

END:VCALENDAR