BEGIN:VCALENDAR

VERSION:2.0

PRODID:-//wp-events-plugin.com//5.55//EN

BEGIN:VEVENT

UID:7b5c362c-e178-4b6d-a282-3fb00231e536

DTSTART:20260804T183000Z

DTEND:20260804T220000Z

DTSTAMP:20260316T101622Z

SUMMARY:Biohazard at Scala - Tuesday 4th August 2026 - 7:30 pm until 11:00 pm 

DESCRIPTION:BIOHAZARD\, renowned for their aggressive style and socially conscious lyrics\, has been a seminal force in the hardcore and metal scenes since their formation in the late 1980s. Their unique blend of hardcore punk\, heavy metal\, and hip-hop elements has garnered them a dedicated fan base and critical acclaim. Musical pioneers in every sense of the word\, BIOHAZARD were one of the first bands to seamlessly blend hardcore\, heavy metal\, punk\, and hip-hop into an intoxicating genre all their own.

LOCATION:

URL:https://scala.co.uk/events/biohazard/

END:VEVENT

END:VCALENDAR