BEGIN:VCALENDAR

VERSION:2.0

PRODID:-//wp-events-plugin.com//5.55//EN

BEGIN:VEVENT

UID:c9b5d796-ed8b-44bd-bd9f-56f2ea26b41c

DTSTART:20261013T183000Z

DTEND:20261013T220000Z

DTSTAMP:20260424T093728Z

SUMMARY:Ben Ellis at Scala - Tuesday 13th October 2026 - 7:30 pm until 11:00 pm 

DESCRIPTION:With an ever-growing fanbase and over 200\,000 followers across all social media platforms\, Ben Ellis is one of the UK’s most exciting new artists. Ben's current catalogue speaks for itself\, with over 2.1 million streams\, Spotify support on New Music Friday UK\, Fresh Finds\, and SALT\, a total of 19 weeks on BBC Radio Wales’s ‘Welsh A List’\, and multiple BBC Radio 1 plays. His relationship with his fans is incredibly unique\, having created a community that see him as a friend not just an artist. Ben is also proud to be a Welsh artist\, having started new music night ‘PLUCK’ to champion Welsh talent alongside BBC Radio 1 presenters Sam &amp\; Danni.

LOCATION:

URL:https://scala.co.uk/events/ben-ellis/

END:VEVENT

END:VCALENDAR