BEGIN:VCALENDAR

VERSION:2.0

PRODID:-//wp-events-plugin.com//5.55//EN

BEGIN:VEVENT

UID:ab882bcd-fdf9-4f7f-9e6d-7aed07f75423

DTSTART:20260425T210000Z

DTEND:20260426T040000Z

DTSTAMP:20260128T173615Z

SUMMARY:Back to the 90's & 00's! at Scala - Saturday 25th April 2026 - Sunday 26th April 2026 - 10:00 pm until 5:00 am 

DESCRIPTION:Milkshake Presents: Back To The 90's &amp\; 00's!\n\nLondon’s ORIGINAL Nostalgic Party\n\nSATURDAY APRIL 25TH 2026\n\nLive from the legendary SCALA LONDON\n\nTickets are out NOW FROM £3 VIA THE MILKSHAKE EVENTS APP!\n\nDO YOU LOVE ALL THINGS RETRO AND THROWBACK?!  Well BACK TO 90'S &amp\; 00's IS BACK\, AND IT’S GONNA BE SO DAMM FETCH!\n\nExperience a party like never before\, celebrating from 1990′ – 2010's\, keeping it real with nostalgia nostalgia nostalgia\, ALL NIGHT LONG! Quite frankly we’re sick of all the restrictions music these days puts on fun\, we’re sick of fashion these days\, we’re sick of politicians these days\, we’re sick of everything these days\, SO BACK TO THE 90’s &amp\; 00's WILL BRING IT ALL BACK!\n\nTaking you through the years as we let loose\, drink plenty\, play games &amp\; party! Set across 2 ROOMS with a huge 1000+ capacity venue right in the heart of Kings Cross\; we expect this party to absolutely sell out quicker than a *NSYNC reunion Tour!\n\nDO you know what we’re thinking?! Do you know how it’s gonna go down!\n\nWell…\n\nLATE 90’s &amp\; 00’s CLASSIC TUNES ALL NIGHT!\n\nR&amp\;B\, Pop\, Disco\, HipHop\, Dance\, Rap\, BubbleGum Pop\, Garage &amp\; more!\n\nFREE Throwback sweets &amp\; tuck-shop!\n\nFREE Inflatables &amp\; blow up toys!\n\nYes that's right\, aliens to air guitars to sealife\, this party will only blow in the right away!\n\nFREE Candy Floss &amp\; Popcorn to bring the child inside you alive!\n\nSuper CHEAP 90’S &amp\; 00's BABIES TICKETS FOR £3! YES £3! (VIA THE MILKSHAKE EVENTS APP)  Get them whilst they’re hot!\n\n————————————————\n\nRoom 1: Will take you through the years of chart toppers! With LOADS of Dance\, Pop\, Cheese REAL 90’s &amp\; 00's Anthems!\n\nRoom 2: Keeping it old school with classic HipHop\, R&amp\;B &amp\; Rap You better know your 50 Cent from your LL Cool J &amp\; Ashanti!\n\n————————————————\n\nBIRTHDAY?!  Born in APRIL?!?!\n\nGET A FREE BIRTHDAY TICKET! - Yes\, come celebrate your birthday month with us and grab your free ticket to this rave if you were born in APRIL - Simply text ‘APRIL BDAY’ to: 07875676028 &amp\; await for confirmation. (While They Last)\n\nAnyway.. That’s Back To The 90's &amp\; 00's! Grab Tickets NOW!\n\nSaturday 25th April - Doors close at 1:30am\n\nScala London 275 Pentonville Rd\, London N1 9NL\n\nEmail: dan@MilkshakeEvents.com or Admin@MilkshakeEvents.com\n\nWARNING – This Event is for 18+ only &amp\; 00’s /90s Lovers only.\n\nMRRA 18+ ID REQ for all entrance\, no refunds Scala runs Club Scan - physical photo ID is required\, no ID no entry. Photographs of ID on your phone are not an accepted form of ID.

LOCATION:

URL:https://scala.co.uk/events/back-to-the-90s-00s-16/

END:VEVENT

END:VCALENDAR