BEGIN:VCALENDAR

VERSION:2.0

PRODID:-//wp-events-plugin.com//5.55//EN

BEGIN:VEVENT

UID:3a68ad2b-c57a-4c48-9914-116ffda4603d

DTSTART:20261028T190000Z

DTEND:20261028T221500Z

DTSTAMP:20260421T095947Z

SUMMARY:Adult DVD at Scala - Wednesday 28th October 2026 - 7:00 pm until 10:15 pm 

DESCRIPTION:Adult DVD today announce their signing to legendary independent label Fat Possum. The Leeds based six-piece also today share new single Real Tree Lee which was premiered yesterday evening on Huw Stephens' BBC 6Music show. Real Tree Lee is a glimpse of what to expect from Adult DVD in 2026 - bold\, forward-thinking music from one of the UK's most hotly tipped new bands.\n\nThe band will soon embark on a UK tour with full dates below. Their 3-night residency at London's Shacklewell Arms sold out in quick time with their word-of-mouth reputation as a formidable live band rapidly gaining momentum. A relentless touring schedule in 2025 saw them entrance crowds across the country\, including at Glastonbury\, Green Man\, End Of The Road and more. In March they will head to the USA to perform at SXSW.\n\nOn 'Real Tree Lee' the band say -\n\n"Lee is a guy that we never want to become\, let’s make that clear! This tune goes out to all the blokes who keep it blokey and delve too far into the cretin side of the internet\, guys that believe every sub Reddit post they read\, dudes that base their entire lives around some bonkers right wing conspiracy and live in fear of 5G. When it comes to Lee\, what you see isn’t a what you get\, and what you get is much darker than you’d expect"\n\nWatch the video for Real Tree Lee (directed by Danny Blackburn\, Greg Lonsdale &amp\; Matthew Henderson-Newbury)\n\nhttps://www.youtube.com/watch?v=J8fd8_OeOaY\n\nFormed by vocalist Harry Hanson and synth-player Greg Lonsdale\, the project has quickly expanded to a full band with Danny Blackburn (guitar/synth)\, Jake Williams (synth)\, Jonathan Newell (drums)\, and George Manson (bass).\n\nThe band have received extensive early press support including being tipped by Rolling Stone UK as a 'Ones To Watch For 2026'\, plus they have been playlisted at BBC 6 Music and had support from BBC Radio 1 and more. Last year they also performed live at BBC’s 6 Music Festival.\n\nAdult DVD are on the precipice of something big...whether tapping into their love for chorus-centric indie or the influence of acid house floor fillers\, DJing\, or remixing their musical contemporaries their core appeal remains consistent: undeniable humour\, bold danceable instrumentals and instantly memorable songwriting.

LOCATION:

URL:https://scala.co.uk/events/adult-dvd/

END:VEVENT

END:VCALENDAR